BEGIN:VCALENDAR
VERSION:2.0
PRODID:-//Região Turística Águas Sertanejas - ECPv6.2.3//NONSGML v1.0//EN
CALSCALE:GREGORIAN
METHOD:PUBLISH
X-WR-CALNAME:Região Turística Águas Sertanejas
X-ORIGINAL-URL:https://www.aguassertanejas.com.br
X-WR-CALDESC:Eventos para Região Turística Águas Sertanejas
REFRESH-INTERVAL;VALUE=DURATION:PT1H
X-Robots-Tag:noindex
X-PUBLISHED-TTL:PT1H
BEGIN:VTIMEZONE
TZID:America/Sao_Paulo
BEGIN:STANDARD
TZOFFSETFROM:-0300
TZOFFSETTO:-0300
TZNAME:-03
DTSTART:20230101T000000
END:STANDARD
END:VTIMEZONE
BEGIN:VEVENT
DTSTART;TZID=America/Sao_Paulo:20231231T235900
DTEND;TZID=America/Sao_Paulo:20240101T003000
DTSTAMP:20260425T133326
CREATED:20231005T235038Z
LAST-MODIFIED:20231006T004143Z
UID:36201-1704067140-1704069000@www.aguassertanejas.com.br
SUMMARY:Reveillon (Barretos\, Colômbia\, Bebedouro\, Colina\, Guaraci e Viradouro)
DESCRIPTION:
URL:https://www.aguassertanejas.com.br/eventos/reveillon-barretos-colombia-bebedouro-colina-guaraci-e-viradouro/
END:VEVENT
BEGIN:VEVENT
DTSTART;TZID=America/Sao_Paulo:20240209T200000
DTEND;TZID=America/Sao_Paulo:20240213T233000
DTSTAMP:20260425T133326
CREATED:20231005T235807Z
LAST-MODIFIED:20231006T004447Z
UID:36203-1707508800-1707867000@www.aguassertanejas.com.br
SUMMARY:Carnaval (Bebedouro\, Colômbia\, Colina\, Guaíra\, Guaraci\, Pirangi e Tabapuã)
DESCRIPTION:
URL:https://www.aguassertanejas.com.br/eventos/carnaval-bebedouro-colombia-colina-guaira-guaraci-pirangi-e-tabapua/
END:VEVENT
BEGIN:VEVENT
DTSTART;TZID=America/Sao_Paulo:20240606T200000
DTEND;TZID=America/Sao_Paulo:20240609T233000
DTSTAMP:20260425T133326
CREATED:20231006T003327Z
LAST-MODIFIED:20231006T003327Z
UID:36230-1717704000-1717975800@www.aguassertanejas.com.br
SUMMARY:Rodeio pela Vida (Barretos)
DESCRIPTION:Depois do sucesso que foi o 3º @rodeiopelavida\, SAVE THE DATE! VEM AÍ: 💥 4º “Rodeio pela Vida” 💥\, em prol do @hospitaldeamor! \nMuito obrigado a todos que prestigiaram as atrações nesses cinco dias! E já separa a bota e o chapéu\, pois a quarta edição desse evento solidário promete agitar Barretos (SP). 🤠 Animação\, música boa\, comidas gostosas e solidariedade: é aqui! 👇🏼 \nLogo voltamos com mais novidades\, continue nos acompanhando! 😉
URL:https://www.aguassertanejas.com.br/eventos/rodeio-pela-vida-barretos/
LOCATION:Barretos
ATTACH;FMTTYPE=image/png:https://www.aguassertanejas.com.br/wp-content/uploads/2023/10/Rodeio-Pela-Vida-Barretos.png
END:VEVENT
END:VCALENDAR